BEGIN:VCALENDAR
VERSION:2.0
PRODID:-//wp-events-plugin.com//7.2.3.1//EN
TZID:Europe/London
X-WR-TIMEZONE:Europe/London
BEGIN:VEVENT
UID:1298@bromleysymphony.org
DTSTART;TZID=Europe/London:20260516T193000
DTEND;TZID=Europe/London:20260516T220000
DTSTAMP:20250816T133238Z
URL:https://www.bromleysymphony.org/event/orchestration-and-concert-order-
 2026-05-16/
SUMMARY:Orchestration and concert order 2026-05-16
DESCRIPTION:Concert order\, duration and orchestration:\nRavel La Valse\n12
 ' 3(Picc) 3(CA) 3(BCl) 3(Con) 4 3 3 1 T 6 Perc 2Hp Str\n\nTchaikovsky Pian
 o Concerto 1\n32' 2 2 2 2 4 2 3 0 T Str\n\nde Falla Three-Cornered Hat \n3
 0' 3(all 3 on picc) 3(CA) 2 2 4 3 3 1 T 5 Perc Hp Cel/Pf Str
CATEGORIES:Rehearsals
LOCATION:Langley Park Centre for the Performing Arts\, Langley Park School 
 for Boys\, South Eden Park Road\, Beckenham \, BR3 3BP\, United Kingdom
GEO:51.388624;-0.019048
X-APPLE-STRUCTURED-LOCATION;VALUE=URI;X-ADDRESS=Langley Park School for Boy
 s\, South Eden Park Road\, Beckenham \, BR3 3BP\, United Kingdom;X-APPLE-R
 ADIUS=100;X-TITLE=Langley Park Centre for the Performing Arts:geo:51.38862
 4,-0.019048
END:VEVENT
BEGIN:VTIMEZONE
TZID:Europe/London
X-LIC-LOCATION:Europe/London
BEGIN:DAYLIGHT
DTSTART:20260329T020000
TZOFFSETFROM:+0000
TZOFFSETTO:+0100
TZNAME:BST
END:DAYLIGHT
END:VTIMEZONE
END:VCALENDAR