BEGIN:VCALENDAR
VERSION:2.0
PRODID:-//wp-events-plugin.com//7.2.3.1//EN
TZID:Europe/London
X-WR-TIMEZONE:Europe/London
BEGIN:VEVENT
UID:1196@bromleysymphony.org
DTSTART;TZID=Europe/London:20240220T190000
DTEND;TZID=Europe/London:20240220T213000
DTSTAMP:20240220T162135Z
URL:https://www.bromleysymphony.org/event/rehearsal-2024-02-20/
SUMMARY:Rehearsal 2024-02-20
DESCRIPTION:Note Tuesday and early start\n19:00 Franck Mov 2\,3\n20:45 Bize
 t II Mov 1\,2\,4
CATEGORIES:Rehearsals
LOCATION:Bishop Justus CE School\, Magpie Hall Lane\, Bromley\, BR2 8HZ\, U
 nited Kingdom
GEO:51.383374;0.043789
X-APPLE-STRUCTURED-LOCATION;VALUE=URI;X-ADDRESS=Magpie Hall Lane\, Bromley\
 , BR2 8HZ\, United Kingdom;X-APPLE-RADIUS=100;X-TITLE=Bishop Justus CE Sch
 ool:geo:51.383374,0.043789
END:VEVENT
BEGIN:VTIMEZONE
TZID:Europe/London
X-LIC-LOCATION:Europe/London
BEGIN:STANDARD
DTSTART:20231029T010000
TZOFFSETFROM:+0100
TZOFFSETTO:+0000
TZNAME:GMT
END:STANDARD
END:VTIMEZONE
END:VCALENDAR