BEGIN:VCALENDAR
VERSION:2.0
PRODID:-//wp-events-plugin.com//7.2.3.1//EN
TZID:Europe/London
X-WR-TIMEZONE:Europe/London
BEGIN:VEVENT
UID:943@bromleysymphony.org
DTSTART;TZID=Europe/London:20041113T194500
DTEND;TZID=Europe/London:20041113T194500
DTSTAMP:20190710T015116Z
URL:https://www.bromleysymphony.org/event/saturday-13th-november-2004-745p
 m/
SUMMARY:Saturday 13th November 2004 at 7:45pm
DESCRIPTION:\n\n\n\nMozartSymphony No. 39\nRichard Strauss  'Ein Heldenlebe
 n' ('A Hero's Life')\nOur first concert of the season contrasts the classi
 cal elegance of Mozart with the extravagant expression of Richard Strauss.
  Of Mozart’s last three symphonies\, No 39 is least played\, a work of i
 nspiration\, joyful exuberance and sombre introspection\, that can still s
 urprise and delight. In A Hero’s Life Strauss portrays his life as an ep
 ic struggle\, between his inner life and love for his wife Pauline\, a fam
 ously temperamental singer\, and the outer world\, battling for understand
 ing and recognition of his work against his adversaries – the critics!\n
 \n\n\n
CATEGORIES:Concerts
LOCATION:The Great Hall\, Ravensbourne School\, Hayes Lane\, Bromley\, BR2 
 9EH\, United Kingdom
GEO:51.3934297;0.020206099999995786
X-APPLE-STRUCTURED-LOCATION;VALUE=URI;X-ADDRESS=Hayes Lane\, Bromley\, BR2 
 9EH\, United Kingdom;X-APPLE-RADIUS=100;X-TITLE=The Great Hall\, Ravensbou
 rne School:geo:51.3934297,0.020206099999995786
END:VEVENT
BEGIN:VTIMEZONE
TZID:Europe/London
X-LIC-LOCATION:Europe/London
BEGIN:STANDARD
DTSTART:20041031T010000
TZOFFSETFROM:+0100
TZOFFSETTO:+0000
TZNAME:GMT
END:STANDARD
END:VTIMEZONE
END:VCALENDAR