BEGIN:VCALENDAR
VERSION:2.0
PRODID:-//wp-events-plugin.com//7.2.3.1//EN
TZID:Europe/London
X-WR-TIMEZONE:Europe/London
BEGIN:VEVENT
UID:1015@bromleysymphony.org
DTSTART;TZID=Europe/London:20210717T173000
DTEND;TZID=Europe/London:20210717T184500
DTSTAMP:20210814T174555Z
URL:https://www.bromleysymphony.org/event/saturday-17th-july-2021-1730-per
 formance/
SUMMARY:Saturday 17th July 2021\, 17:30 and 20:00
DESCRIPTION:Wagner Die Meistersinger Overture \nElgar Sea Pictures \
 n    Soloist Janice Watson\nBeethoven Symphony No 5 in C Minor 
 \nSocially-distanced concert with two performances in one day so as many o
 f you can attend as possible. Tickets (for these concerts only) are priced
  at £15 (under 18s free but they need to “buy” a ticket).  Please no
 te that no refreshments will be served and there will be no interval.
CATEGORIES:Concerts
LOCATION:Langley Park Centre for the Performing Arts\, Langley Park School 
 for Boys\, South Eden Park Road\, Beckenham \, BR3 3BP\, United Kingdom
GEO:51.388624;-0.019048
X-APPLE-STRUCTURED-LOCATION;VALUE=URI;X-ADDRESS=Langley Park School for Boy
 s\, South Eden Park Road\, Beckenham \, BR3 3BP\, United Kingdom;X-APPLE-R
 ADIUS=100;X-TITLE=Langley Park Centre for the Performing Arts:geo:51.38862
 4,-0.019048
END:VEVENT
BEGIN:VTIMEZONE
TZID:Europe/London
X-LIC-LOCATION:Europe/London
BEGIN:DAYLIGHT
DTSTART:20210328T020000
TZOFFSETFROM:+0000
TZOFFSETTO:+0100
TZNAME:BST
END:DAYLIGHT
END:VTIMEZONE
END:VCALENDAR