BEGIN:VCALENDAR
VERSION:2.0
PRODID:-//wp-events-plugin.com//7.2.3.1//EN
TZID:Europe/London
X-WR-TIMEZONE:Europe/London
BEGIN:VEVENT
UID:929@bromleysymphony.org
DTSTART;TZID=Europe/London:20080119T194500
DTEND;TZID=Europe/London:20080119T194500
DTSTAMP:20190710T015119Z
URL:https://www.bromleysymphony.org/event/saturday-19th-january-2008-745pm
 /
SUMMARY:Saturday 19th January 2008 at 7:45pm
DESCRIPTION:\n\n\n\nAnton Bruckner\n\nSchubert Overture - 'Rosamunde' \n  
 Strauss Duett-Concertino     soloists - Massimo Roman (clarinet)     &
  Stephen Fuller (bassoon)\n BrucknerSymphony No. 7\nSchubert wrote much ch
 arming\, tuneful music in his short life and this overture shows both thes
 e qualities. Strauss’s solo clarinet masquerades as a princess and the b
 assoon as a bear who turns into a prince when they dance together. Bruckne
 r’s symphonies are like magnificent cathedrals in splendour\, the famous
  slow movement of the Seventh being a glorious tribute to his idol\, Wagne
 r.\n\n\n\n
CATEGORIES:Concerts
LOCATION:The Great Hall\, Ravensbourne School\, Hayes Lane\, Bromley\, BR2 
 9EH\, United Kingdom
GEO:51.3934297;0.020206099999995786
X-APPLE-STRUCTURED-LOCATION;VALUE=URI;X-ADDRESS=Hayes Lane\, Bromley\, BR2 
 9EH\, United Kingdom;X-APPLE-RADIUS=100;X-TITLE=The Great Hall\, Ravensbou
 rne School:geo:51.3934297,0.020206099999995786
END:VEVENT
BEGIN:VTIMEZONE
TZID:Europe/London
X-LIC-LOCATION:Europe/London
BEGIN:STANDARD
DTSTART:20071028T010000
TZOFFSETFROM:+0100
TZOFFSETTO:+0000
TZNAME:GMT
END:STANDARD
END:VTIMEZONE
END:VCALENDAR