BEGIN:VCALENDAR
VERSION:2.0
PRODID:-//wp-events-plugin.com//7.2.3.1//EN
TZID:Europe/London
X-WR-TIMEZONE:Europe/London
BEGIN:VEVENT
UID:934@bromleysymphony.org
DTSTART;TZID=Europe/London:20070120T194500
DTEND;TZID=Europe/London:20070120T194500
DTSTAMP:20190710T015118Z
URL:https://www.bromleysymphony.org/event/saturday-20th-january-2007-745pm
 /
SUMMARY:Saturday 20th January 2007 at 7:45pm
DESCRIPTION:\n\n\n Sergei Rachmaninov\nWagner Overture from 'Rienzi'  \nArn
 old Little Suite No. 1 \nHaydn Trumpet Concerto      soloist: Matthew F
 letcher\n RachmaninovSymphony No. 2 \nRachmaninov’s great symphony has a
  gloriously rich sound of broad tunes\, with passionate declamation. Wagne
 r’s early opera celebrated the life of 14th century Roman populist leade
 r Rienzi on the grandest scale. By contrast\, Haydn offers a joyful and ra
 diant concerto.\n\n\n\n
CATEGORIES:Concerts
LOCATION:The Great Hall\, Ravensbourne School\, Hayes Lane\, Bromley\, BR2 
 9EH\, United Kingdom
GEO:51.3934297;0.020206099999995786
X-APPLE-STRUCTURED-LOCATION;VALUE=URI;X-ADDRESS=Hayes Lane\, Bromley\, BR2 
 9EH\, United Kingdom;X-APPLE-RADIUS=100;X-TITLE=The Great Hall\, Ravensbou
 rne School:geo:51.3934297,0.020206099999995786
END:VEVENT
BEGIN:VTIMEZONE
TZID:Europe/London
X-LIC-LOCATION:Europe/London
BEGIN:STANDARD
DTSTART:20061029T010000
TZOFFSETFROM:+0100
TZOFFSETTO:+0000
TZNAME:GMT
END:STANDARD
END:VTIMEZONE
END:VCALENDAR