BEGIN:VCALENDAR
VERSION:2.0
PRODID:-//wp-events-plugin.com//7.2.3.1//EN
TZID:Europe/London
X-WR-TIMEZONE:Europe/London
BEGIN:VEVENT
UID:945@bromleysymphony.org
DTSTART;TZID=Europe/London:20040320T194500
DTEND;TZID=Europe/London:20040320T194500
DTSTAMP:20190710T015116Z
URL:https://www.bromleysymphony.org/event/saturday-20th-march-2004/
SUMMARY:Saturday 20th March 2004
DESCRIPTION:\n\n\n\nDvořák Serenade op 44 in D minor\nWagner Wesendonk Li
 eder\nVaughan Williams Symphony No. 3 (Pastoral)\n\nDvořák’s D minor S
 erenade is one of the really great works in the repertoire for wind ensemb
 le. We are delighted to welcome back Malmfrid Sand to sing the Wesendonk L
 ieder. Wagner had an intense relationship with the German poet and writer 
 Mathilde Wesendonk\, and set five of her poems to music. A wordless sopran
 o also features in the last movement of the ‘Pastoral’ Symphony\, whic
 h is close to the spiritual centre of Vaughan Williams and has intense pas
 sions running deep below its largely dispassionate surface.\n\n\n\n
CATEGORIES:Concerts
LOCATION:The Great Hall\, Ravensbourne School\, Hayes Lane\, Bromley\, BR2 
 9EH\, United Kingdom
GEO:51.3934297;0.020206099999995786
X-APPLE-STRUCTURED-LOCATION;VALUE=URI;X-ADDRESS=Hayes Lane\, Bromley\, BR2 
 9EH\, United Kingdom;X-APPLE-RADIUS=100;X-TITLE=The Great Hall\, Ravensbou
 rne School:geo:51.3934297,0.020206099999995786
END:VEVENT
BEGIN:VTIMEZONE
TZID:Europe/London
X-LIC-LOCATION:Europe/London
BEGIN:STANDARD
DTSTART:20031026T010000
TZOFFSETFROM:+0100
TZOFFSETTO:+0000
TZNAME:GMT
END:STANDARD
END:VTIMEZONE
END:VCALENDAR