BEGIN:VCALENDAR
VERSION:2.0
PRODID:-//wp-events-plugin.com//7.2.3.1//EN
TZID:Europe/London
X-WR-TIMEZONE:Europe/London
BEGIN:VEVENT
UID:936@bromleysymphony.org
DTSTART;TZID=Europe/London:20060520T194500
DTEND;TZID=Europe/London:20060520T194500
DTSTAMP:20190710T015118Z
URL:https://www.bromleysymphony.org/event/saturday-20th-may-2006-745pm/
SUMMARY:Saturday 20th May 2006 at 7:45pm
DESCRIPTION:\n\n\n\nLudwig van Beethoven\n\n\n‘Simply Famous’\nGrieg "P
 eer Gynt" (selection) \n Mozart Horn Concerto No. 3       soloist - Roy
  Banks\nBeethoven Symphony No. 3 - "Eroica" \nWhy does some music gain uni
 versal popularity and fame? Great tunes\, freshness\, vitality\, romance\,
  drama – all are shown in this concert. Grieg’s spirited portrayal of 
 the adventures of ‘Peer Gynt’ is among the most played orchestral musi
 c. Mozart’s humour and high spirits in a showpiece for the French horn h
 as immediate appeal. And on every hearing\, the revolutionary drama of Bee
 thoven ‘Eroica’ strikes the listener anew with the shock of a journey 
 from tragedy to triumph.\n\n\n\n
CATEGORIES:Concerts
LOCATION:The Great Hall\, Ravensbourne School\, Hayes Lane\, Bromley\, BR2 
 9EH\, United Kingdom
GEO:51.3934297;0.020206099999995786
X-APPLE-STRUCTURED-LOCATION;VALUE=URI;X-ADDRESS=Hayes Lane\, Bromley\, BR2 
 9EH\, United Kingdom;X-APPLE-RADIUS=100;X-TITLE=The Great Hall\, Ravensbou
 rne School:geo:51.3934297,0.020206099999995786
END:VEVENT
BEGIN:VTIMEZONE
TZID:Europe/London
X-LIC-LOCATION:Europe/London
BEGIN:DAYLIGHT
DTSTART:20060326T020000
TZOFFSETFROM:+0000
TZOFFSETTO:+0100
TZNAME:BST
END:DAYLIGHT
END:VTIMEZONE
END:VCALENDAR