BEGIN:VCALENDAR
VERSION:2.0
PRODID:-//wp-events-plugin.com//7.2.3.1//EN
TZID:Europe/London
X-WR-TIMEZONE:Europe/London
BEGIN:VEVENT
UID:1027@bromleysymphony.org
DTSTART;TZID=Europe/London:20220122T193000
DTEND;TZID=Europe/London:20220122T220000
DTSTAMP:20230515T132551Z
URL:https://www.bromleysymphony.org/event/saturday-22nd-january-2022-at-19
 30/
SUMMARY:Saturday 22nd January 2022 at 19:30
DESCRIPTION:Vaughan Williams Wasps Overture \nVaughan Williams The Lark Asc
 ending \nPeter Longworth In the golden sky\, the swallows turn\n    Sol
 oist Emily Davis\nVaughan Williams English Folk Suite \nBax Symphony No 6
  \nRedolent of the glories of the English countryside\, our second concert
  begins with Vaughan Williams’ glittering “Wasps” Overture. We then 
 feature the wonderful Emily Davis in the much-loved Lark Ascending (and in
  Longworths’ delicate tribute to the same). Bax’s gloriously powerful 
 Sixth Symphony encompasses the second half. (“The work marches irrevocab
 ly from point to point with the inevitability of mastery.” – its first
  review.)
CATEGORIES:Concerts
LOCATION:Langley Park Centre for the Performing Arts\, Langley Park School 
 for Boys\, South Eden Park Road\, Beckenham \, BR3 3BP\, United Kingdom
GEO:51.388624;-0.019048
X-APPLE-STRUCTURED-LOCATION;VALUE=URI;X-ADDRESS=Langley Park School for Boy
 s\, South Eden Park Road\, Beckenham \, BR3 3BP\, United Kingdom;X-APPLE-R
 ADIUS=100;X-TITLE=Langley Park Centre for the Performing Arts:geo:51.38862
 4,-0.019048
END:VEVENT
BEGIN:VTIMEZONE
TZID:Europe/London
X-LIC-LOCATION:Europe/London
BEGIN:STANDARD
DTSTART:20211031T010000
TZOFFSETFROM:+0100
TZOFFSETTO:+0000
TZNAME:GMT
END:STANDARD
END:VTIMEZONE
END:VCALENDAR