BEGIN:VCALENDAR
VERSION:2.0
PRODID:-//wp-events-plugin.com//7.2.3.1//EN
TZID:Europe/London
X-WR-TIMEZONE:Europe/London
BEGIN:VEVENT
UID:1355@bromleysymphony.org
DTSTART;TZID=Europe/London:20270123T193000
DTEND;TZID=Europe/London:20270123T220000
DTSTAMP:20260403T205703Z
URL:https://www.bromleysymphony.org/event/saturday-23rd-january-2027-at-19
 30/
SUMMARY:Saturday 23rd January 2027 at 19:30
DESCRIPTION:Mussorgsky Night on a Bare Mountain (Rimsky Korsakov version) \
 nBarber Adagio for Strings \nDukas Sorcerer’s Apprentice \nRimsky-Korsak
 ov Scheherazade \nTchaikovsky Capriccio Italien 
CATEGORIES:Concerts
LOCATION:Langley Park Centre for the Performing Arts\, Langley Park School 
 for Boys\, South Eden Park Road\, Beckenham \, BR3 3BP\, United Kingdom
GEO:51.388624;-0.019048
X-APPLE-STRUCTURED-LOCATION;VALUE=URI;X-ADDRESS=Langley Park School for Boy
 s\, South Eden Park Road\, Beckenham \, BR3 3BP\, United Kingdom;X-APPLE-R
 ADIUS=100;X-TITLE=Langley Park Centre for the Performing Arts:geo:51.38862
 4,-0.019048
END:VEVENT
BEGIN:VTIMEZONE
TZID:Europe/London
X-LIC-LOCATION:Europe/London
BEGIN:STANDARD
DTSTART:20261025T010000
TZOFFSETFROM:+0100
TZOFFSETTO:+0000
TZNAME:GMT
END:STANDARD
END:VTIMEZONE
END:VCALENDAR