BEGIN:VCALENDAR
VERSION:2.0
PRODID:-//wp-events-plugin.com//7.2.3.1//EN
TZID:Europe/London
X-WR-TIMEZONE:Europe/London
BEGIN:VEVENT
UID:921@bromleysymphony.org
DTSTART;TZID=Europe/London:20090614T175000
DTEND;TZID=Europe/London:20090614T175000
DTSTAMP:20200321T223221Z
URL:https://www.bromleysymphony.org/event/sunday-14th-june-2009/
SUMMARY:Sunday 14th June 2009
DESCRIPTION:\n\n\nDay Workshop  at Ravens Wood School BR2 8HP \nDmitri Shos
 takovitch Symphony No. 7 ('Leningrad') \nAdrian introduced the work at 5.5
 0pm\, followed by an informal performance at about 6.15pm.\nThe session wa
 s free\, but donations were welcome\; no tickets were issued.\n\n\n\n
CATEGORIES:Concerts
LOCATION:The Great Hall\, Ravensbourne School\, Hayes Lane\, Bromley\, BR2 
 9EH\, United Kingdom
GEO:51.3934297;0.020206099999995786
X-APPLE-STRUCTURED-LOCATION;VALUE=URI;X-ADDRESS=Hayes Lane\, Bromley\, BR2 
 9EH\, United Kingdom;X-APPLE-RADIUS=100;X-TITLE=The Great Hall\, Ravensbou
 rne School:geo:51.3934297,0.020206099999995786
END:VEVENT
BEGIN:VTIMEZONE
TZID:Europe/London
X-LIC-LOCATION:Europe/London
BEGIN:DAYLIGHT
DTSTART:20090329T020000
TZOFFSETFROM:+0000
TZOFFSETTO:+0100
TZNAME:BST
END:DAYLIGHT
END:VTIMEZONE
END:VCALENDAR