BEGIN:VCALENDAR
VERSION:2.0
PRODID:-//wp-events-plugin.com//7.2.3.1//EN
TZID:Europe/London
X-WR-TIMEZONE:Europe/London
BEGIN:VEVENT
UID:71@bromleysymphony.org
DTSTART;TZID=Europe/London:20160319T194500
DTEND;TZID=Europe/London:20160319T194500
DTSTAMP:20230103T132907Z
URL:https://www.bromleysymphony.org/event/symphony-no-5-b-flat-major-d-485
 /
SUMMARY:Symphony No. 5 in B&#x266d\; major\, D. 485
DESCRIPTION:Details
CATEGORIES:Repertoire pieces
LOCATION:Langley Park Centre for the Performing Arts\, Langley Park School 
 for Boys\, South Eden Park Road\, Beckenham \, BR3 3BP\, United Kingdom
GEO:51.388624;-0.019048
X-APPLE-STRUCTURED-LOCATION;VALUE=URI;X-ADDRESS=Langley Park School for Boy
 s\, South Eden Park Road\, Beckenham \, BR3 3BP\, United Kingdom;X-APPLE-R
 ADIUS=100;X-TITLE=Langley Park Centre for the Performing Arts:geo:51.38862
 4,-0.019048
END:VEVENT
BEGIN:VTIMEZONE
TZID:Europe/London
X-LIC-LOCATION:Europe/London
BEGIN:STANDARD
DTSTART:20151025T010000
TZOFFSETFROM:+0100
TZOFFSETTO:+0000
TZNAME:GMT
END:STANDARD
END:VTIMEZONE
END:VCALENDAR